BEGIN:VCALENDAR
VERSION:2.0
PRODID:-//eventon.com NONSGML v1.0//EN
CALSCALE:GREGORIAN
METHOD:PUBLISH
BEGIN:VEVENT
UID:69e8df6623dc2
DTSTAMP:20260422T144702Z
DTSTART:20260613
DTEND:20260614
LOCATION:
SUMMARY:IASD conference workshop - join us in Ashland!
DESCRIPTION:Linda will be giving a workshop at the 2026 IASD conference in 
 Ashland\,  Oregon.\nhttps://lindayaelschiller.com/events/iasd-conference-wo
 rkshop-join-us-in-ashland/
URL:https://lindayaelschiller.com/events/iasd-conference-workshop-join-us-in-ashland/
END:VEVENT
END:VCALENDAR