BEGIN:VCALENDAR
VERSION:2.0
PRODID:-//eventon.com NONSGML v1.0//EN
CALSCALE:GREGORIAN
METHOD:PUBLISH
BEGIN:VEVENT
UID:69e8dfa337cde
DTSTAMP:20260422T144803Z
DTSTART:20260914
DTEND:20260915
LOCATION:
SUMMARY:Connecting with our Ancestors through Healing Dreamwork and Integrative Practices
DESCRIPTION:Join Linda Yael Schiller and Kimberly Mascaro as they share int
 egrative\,  spiritual\,  somatic\,  contemplative\,  and expressive hands-o
 n modalities for connecting with and honoring our ancestors. Develop a tool
 kit for healing intergenerational trauma that has been passed down through 
 ancestral lines. In this interactive experiential workshop\,  participants 
 learn to connect with[..]\nhttps://lindayaelschiller.com/events/connecting-
 with-our-ancestors-through-healing-dreamwork-and-integrative-practices/
URL:https://lindayaelschiller.com/events/connecting-with-our-ancestors-through-healing-dreamwork-and-integrative-practices/
END:VEVENT
END:VCALENDAR